BEGIN:VCALENDAR
VERSION:2.0
PRODID:-//hacksw/handcal//NONSGML v1.0//EN
BEGIN:VEVENT
SUMMARY:Entrainement de Masse
UID:fe009afe-88d1-4872-a57c-c428fa48fd47
DTSTART:20260224T180000Z
DTEND:20260224T193000Z
LOCATION:Localisation   
CATEGORIES:Entrainement
STATUS:
DESCRIPTION:<div>Entrainement de Masse </div><div>Mardi 24 fevrier
 2026</div><div>de 19h00 a 20h30</div><div>Dojo de Muret 47 rue notre
 dame 31600 Muret.</div><div>A partir de cadet.</div><div>Ouverts a
 tous clubs et les licencies France Judo.</div>
URL;VALUE=URI:https://www.muretjudoclub.fr/evenements/2026/02/24/entrainement-de-masse-2418688
END:VEVENT
END:VCALENDAR
