BEGIN:VCALENDAR
VERSION:2.0
PRODID:-//hacksw/handcal//NONSGML v1.0//EN
BEGIN:VEVENT
SUMMARY:Entrainement Benjamin Minime
UID:0b495d40-1d7c-4982-833b-032d43c5d980
DTSTART:20260304T083000Z
DTEND:20260304T143000Z
LOCATION:Localisation centre socio-culturel 31 Carbonne
CATEGORIES:Entrainement
STATUS:
DESCRIPTION:Stage destine au Benjamin et minimes venez nombreux pour
 preparer les nouvelles echeances de competition.
URL;VALUE=URI:https://www.muretjudoclub.fr/evenements/2026/03/04/entrainement-benjamin-minime-2409995
END:VEVENT
END:VCALENDAR
